<metadata xml:lang="zh"><Esri><CreaDate>20211222</CreaDate><CreaTime>09092200</CreaTime><ArcGISFormat>1.0</ArcGISFormat><SyncOnce>FALSE</SyncOnce><DataProperties><itemProps><itemName Sync="TRUE">a2uptin.tif</itemName><itemLocation><linkage Sync="TRUE">file://\\ZHOUDY\D$\A20211222\HBKS_TIN_RASTER\ks_up02.tif</linkage><protocol Sync="TRUE">Local Area Network</protocol></itemLocation><imsContentType Sync="TRUE">002</imsContentType><nativeExtBox><westBL Sync="TRUE">115.304821</westBL><eastBL Sync="TRUE">115.313445</eastBL><southBL Sync="TRUE">39.295160</southBL><northBL Sync="TRUE">39.305372</northBL><exTypeCode Sync="TRUE">1</exTypeCode></nativeExtBox></itemProps><coordRef><type Sync="TRUE">Geographic</type><geogcsn Sync="TRUE">GCS_China_Geodetic_Coordinate_System_2000</geogcsn><csUnits Sync="TRUE">Angular Unit: Degree (0.017453)</csUnits><peXml Sync="TRUE"><GeographicCoordinateSystem xsi:type='typens:GeographicCoordinateSystem' xmlns:xsi='http://www.w3.org/2001/XMLSchema-instance' xmlns:xs='http://www.w3.org/2001/XMLSchema' xmlns:typens='http://www.esri.com/schemas/ArcGIS/10.4'><WKT>GEOGCS[&quot;GCS_China_Geodetic_Coordinate_System_2000&quot;,DATUM[&quot;D_China_2000&quot;,SPHEROID[&quot;CGCS2000&quot;,6378137.0,298.257222101]],PRIMEM[&quot;Greenwich&quot;,0.0],UNIT[&quot;Degree&quot;,0.0174532925199433],AUTHORITY[&quot;EPSG&quot;,4490]]</WKT><XOrigin>-400</XOrigin><YOrigin>-400</YOrigin><XYScale>11258999068426.238</XYScale><ZOrigin>-100000</ZOrigin><ZScale>10000</ZScale><MOrigin>-100000</MOrigin><MScale>10000</MScale><XYTolerance>8.9831528411952133e-009</XYTolerance><ZTolerance>0.001</ZTolerance><MTolerance>0.001</MTolerance><HighPrecision>true</HighPrecision><LeftLongitude>-180</LeftLongitude><WKID>4490</WKID><LatestWKID>4490</LatestWKID></GeographicCoordinateSystem></peXml></coordRef><RasterProperties><General><PixelDepth Sync="TRUE">32</PixelDepth><HasColormap Sync="TRUE">FALSE</HasColormap><CompressionType Sync="TRUE">LZW</CompressionType><NumBands Sync="TRUE">1</NumBands><Format Sync="TRUE">TIFF</Format><HasPyramids Sync="TRUE">TRUE</HasPyramids><SourceType Sync="TRUE">continuous</SourceType><PixelType Sync="TRUE">floating point</PixelType><NoDataValue Sync="TRUE">-3.4028235e+038</NoDataValue></General></RasterProperties><copyHistory><copy source="D:\A20211222\HBKS_TIN_RASTER\prj\ks_up02.tif" dest="\\ZHOUDY\D$\A20211222\HBKS_TIN_RASTER\ks_up02.tif" date="20211222" time="09244000"></copy></copyHistory></DataProperties><SyncDate>20211222</SyncDate><SyncTime>09092200</SyncTime><ModDate>20211222</ModDate><ModTime>09092200</ModTime></Esri><dataIdInfo><envirDesc Sync="TRUE"> Version 6.2 (Build 9200) ; Esri ArcGIS 10.4.1.5686</envirDesc><dataLang><languageCode value="zho" Sync="TRUE"></languageCode><countryCode value="CHN" Sync="TRUE"></countryCode></dataLang><idCitation><resTitle Sync="TRUE">a2uptin.tif</resTitle><presForm><PresFormCd value="005" Sync="TRUE"></PresFormCd></presForm></idCitation><spatRpType><SpatRepTypCd value="002" Sync="TRUE"></SpatRepTypCd></spatRpType><dataExt><geoEle><GeoBndBox esriExtentType="search"><exTypeCode Sync="TRUE">1</exTypeCode><westBL Sync="TRUE">115.304821</westBL><eastBL Sync="TRUE">115.313445</eastBL><northBL Sync="TRUE">39.305372</northBL><southBL Sync="TRUE">39.295160</southBL></GeoBndBox></geoEle></dataExt></dataIdInfo><mdLang><languageCode value="zho" Sync="TRUE"></languageCode><countryCode value="CHN" Sync="TRUE"></countryCode></mdLang><mdChar><CharSetCd value="004" Sync="TRUE"></CharSetCd></mdChar><distInfo><distFormat><formatName Sync="TRUE">Raster Dataset</formatName></distFormat></distInfo><mdHrLv><ScopeCd value="005" Sync="TRUE"></ScopeCd></mdHrLv><mdHrLvName Sync="TRUE">dataset</mdHrLvName><refSysInfo><RefSystem><refSysID><identCode code="4490" Sync="TRUE"></identCode><idCodeSpace Sync="TRUE">EPSG</idCodeSpace><idVersion Sync="TRUE">7.9.3(10.0.0)</idVersion></refSysID></RefSystem></refSysInfo><spatRepInfo><Georect><cellGeo><CellGeoCd Sync="TRUE" value="002"></CellGeoCd></cellGeo><numDims Sync="TRUE">2</numDims><tranParaAv Sync="TRUE">1</tranParaAv><chkPtAv Sync="TRUE">0</chkPtAv><cornerPts><pos Sync="TRUE">115.304821 39.295160</pos></cornerPts><cornerPts><pos Sync="TRUE">115.304821 39.305372</pos></cornerPts><cornerPts><pos Sync="TRUE">115.313445 39.305372</pos></cornerPts><cornerPts><pos Sync="TRUE">115.313445 39.295160</pos></cornerPts><centerPt><pos Sync="TRUE">115.309133 39.300266</pos></centerPt><axisDimension type="002"><dimSize Sync="TRUE">277</dimSize><dimResol><value Sync="TRUE" uom="deg">0.000031</value></dimResol></axisDimension><axisDimension type="001"><dimSize Sync="TRUE">328</dimSize><dimResol><value Sync="TRUE" uom="deg">0.000031</value></dimResol></axisDimension><ptInPixel><PixOrientCd Sync="TRUE" value="001"></PixOrientCd></ptInPixel></Georect></spatRepInfo><contInfo><ImgDesc><contentTyp><ContentTypCd Sync="TRUE" value="001"></ContentTypCd></contentTyp><covDim><Band><dimDescrp Sync="TRUE">Band_1</dimDescrp><maxVal Sync="TRUE">349.961578</maxVal><minVal Sync="TRUE">141.488159</minVal><bitsPerVal Sync="TRUE">32</bitsPerVal><valUnit><UOM type="length"></UOM></valUnit></Band></covDim></ImgDesc></contInfo><mdDateSt Sync="TRUE">20211222</mdDateSt></metadata>
|